BEGIN:VCALENDAR
VERSION:2.0
PRODID:-//pretix//HFF_Ticketshop//
BEGIN:VTIMEZONE
TZID:Europe/Berlin
BEGIN:STANDARD
DTSTART:20001029T030000
RRULE:FREQ=YEARLY;BYDAY=-1SU;BYMONTH=10
TZNAME:CET
TZOFFSETFROM:+0200
TZOFFSETTO:+0100
END:STANDARD
BEGIN:DAYLIGHT
DTSTART:20000326T020000
RRULE:FREQ=YEARLY;BYDAY=-1SU;BYMONTH=3
TZNAME:CEST
TZOFFSETFROM:+0100
TZOFFSETTO:+0200
END:DAYLIGHT
END:VTIMEZONE
BEGIN:VEVENT
UID:pretix-vfx-worldfvxday2023-0@anmeldung.hff-muc.de
DTSTART;TZID=Europe/Berlin:20231208T090000
DTEND;TZID=Europe/Berlin:20231208T220000
DESCRIPTION:Tickets: https://anmeldung.hff-muc.de/vfx/worldfvxday2023/\nOrg
 anizer: Abteilung VII / VFX
DTSTAMP:20260420T034722Z
LOCATION:HFF Munich (Bernd-Eichinger-Platz 1\, 80333 Munich)\, Kino 1  / Ci
 nema red
SUMMARY:World VFX Day 2023 - Munich
END:VEVENT
END:VCALENDAR
